BEGIN:VCALENDAR
VERSION:2.0
PRODID:-//wp-events-plugin.com//7.2.3.1//EN
BEGIN:VEVENT
UID:216@grand-corbin-despagne.com
DTSTART:20260418T100000Z
DTEND:20260418T170000Z
DTSTAMP:20260402T120455Z
URL:https://www.grand-corbin-despagne.com/evenements/visites-et-degustatio
 n-au-chateau-grand-corbin-despagne-samedi-18-avril-2026/
SUMMARY:Visites et dégustations au Château Grand Corbin-Despagne : Saint-
 Emilion Grand Cru Classé samedi 18 avril 2026
DESCRIPTION:Visites et dégustations exclusivement sur rendez-vous\, afin d
 e vous accueillir dans les meilleures conditions\, comme de véritables in
 vités.\n\nVous pouvez appeler au : 0033(0)5 57 51 08 38 ou 0033(0)6 82 32
  58 51 ou au 0033(0)6 28 06 67 37\n\nHoraires de visites : 11h - 15h - 17h
 \n\nVisites en Français ou en Anglais\n\nAnimés par des personnes de la 
 propriété diplômées en œnologie\, la visite est une invitation à dé
 couvrir les coulisses d’un Grand Cru Classé de Saint-Emilion élaboré 
 selon les principes de l’agriculture biologique par la famille Despagne\
 , propriétaire de ce cru depuis plus de deux siècles et présente à Sai
 nt-Emilion depuis près de 500 ans. Mêlant la théorie à la pratique\, l
 es visites entraînent le visiteur dans\n\nVéritables moments de partage\
 , ces visites constituent une expérience inoubliable pour découvrir le m
 onde du vin et la fabuleuse histoire des vins de Grand Corbin-Despagne. Po
 rtées par une approche pédagogique accessible et vivante\, elles permett
 ent à chacun de comprendre\, ressentir et apprécier le vin à son rythme
 . Chaque visite et dégustation est personnalisée : nous nous adaptons au
  niveau et aux attentes de tous\, qu’il s’agisse d’enfants\, de déb
 utants\, d’amateurs ou de passionnés avertis.\n\n 	Visite et dégustati
 on de Château Grand Corbin-Despagne :\n 	Visite Classique : Dégustatio
 n de 2 vins. Durée 1h à 23 € TTC / personne\n 	Visite Privilège : D
 égustation de 3 vins. Durée 1h15 à 28 € TTC / personne\n 	Visite Pri
 vilège privative : Dégustation de 3 vins. Durée 1h15 à 45 € TTC / 
 personne\n 	La découverte du cru débute par un historique de la famille 
 Despagne. Explication dans le vignoble afin de comprendre les étapes réa
 lisées durant le cycle physiologique de la vigne. Philosophie environneme
 ntale : pratique de la culture biologique. Présentation des techniques d
 ’élaboration des différents vins de la propriété grâce au passage d
 ans les cuviers et chai à barrique. Commentaires de dégustation des vins
  dégustés\, explications sur la conservation et le service du vin. Déco
 uverte de l’œnothèque familiale de vieilles bouteilles de 1926 à nos 
 jours et de gros contenants.\n
ATTACH;FMTTYPE=image/jpeg:https://www.grand-corbin-despagne.com/wp-content
 /uploads/2022/04/logo-GCD.jpg
CATEGORIES:Dégustation,Événement
END:VEVENT
END:VCALENDAR