BEGIN:VCALENDAR
VERSION:2.0
PRODID:-//wp-events-plugin.com//7.2.3.1//EN
BEGIN:VEVENT
UID:112@grand-corbin-despagne.com
DTSTART:20160513T103000Z
DTEND:20160513T143000Z
DTSTAMP:20160310T134039Z
URL:https://www.grand-corbin-despagne.com/evenements/visite-organisee-tout
 e-la-journee-sur-rendez-vous-bordeaux-saint-emilion-grands-crus-unesco/
SUMMARY:Visite suivi d'un casse-croûte uniquement sur rendez-vous organis
 és par l'Office du Tourisme de Saint-Emilion
DESCRIPTION:Bordeaux Saint-Emilion Grands Crus UNESCO : Visite du Château 
 Grand Corbin-Despagne suivi d’un casse-croûte vigneron accompagné des 
 vins de la propriété.Vous pouvez vous inscrire à l’office du Tourisme
  de Saint-Emilion soit par téléphone au 05 57 55 28 28 soit sur le site 
 en cliquant sur ce lien http://www.saint-emilion-tourisme.com&nbsp\;&nbsp\
 ;
ATTACH;FMTTYPE=image/jpeg:https://www.grand-corbin-despagne.com/wp-content
 /uploads/2013/06/saintemilion.png
CATEGORIES:Événement
END:VEVENT
END:VCALENDAR