BEGIN:VCALENDAR
VERSION:2.0
PRODID:-//wp-events-plugin.com//7.2.3.1//EN
BEGIN:VEVENT
UID:113@grand-corbin-despagne.com
DTSTART:20160617T104500Z
DTEND:20160617T143000Z
DTSTAMP:20160310T134235Z
URL:https://www.grand-corbin-despagne.com/evenements/visite-organisee-tout
 e-la-journee-sur-rendez-vous-bordeaux-saint-emilion-grands-crus-unesco-2/
SUMMARY:Visite suivi d'un casse-croûte uniquement sur rendez-vous organis
 és par l'Office du Tourisme de Saint-Emilion
DESCRIPTION:Bordeaux Saint-Emilion Grands Crus UNESCO :Visite du Château G
 rand Corbin-Despagne suivi d’un casse-croûte vigneron accompagné des v
 ins de la propriété.Vous pouvez vous inscrire à l’office du Tourisme 
 de Saint-Emilion soit par téléphone au 05 57 55 28 28 soit sur le site e
 n cliquant sur ce lien http://www.saint-emilion-tourisme.com
ATTACH;FMTTYPE=image/jpeg:https://www.grand-corbin-despagne.com/wp-content
 /uploads/2014/03/Office-du-tourisme-de-Saint-Emilion.jpg
CATEGORIES:Événement
END:VEVENT
END:VCALENDAR