BEGIN:VCALENDAR
VERSION:2.0
PRODID:-//wp-events-plugin.com//7.2.3.1//EN
BEGIN:VEVENT
UID:42@grand-corbin-despagne.com
DTSTART:20140528T130000Z
DTEND:20140528T170000Z
DTSTAMP:20140325T105811Z
URL:https://www.grand-corbin-despagne.com/evenements/vinexpo-honk-kong-deg
 ustation-professionnel/
SUMMARY:Vinexpo Honk-Kong : Dégustation professionnelle
DESCRIPTION:\nDégustation organisée par le Grand Cercle des Vins de Borde
 aux\n
ATTACH;FMTTYPE=image/jpeg:https://www.grand-corbin-despagne.com/wp-content
 /uploads/2014/03/Logo-Grand-Cercle-1.jpg
CATEGORIES:Dégustation
END:VEVENT
END:VCALENDAR