BEGIN:VCALENDAR
VERSION:2.0
PRODID:-//wp-events-plugin.com//7.2.3.1//EN
BEGIN:VEVENT
UID:152@grand-corbin-despagne.com
DTSTART:20180927T150000Z
DTEND:20180927T200000Z
DTSTAMP:20181016T150815Z
URL:https://www.grand-corbin-despagne.com/evenements/temps-des-livrables-d
 egustation-organisee-par-le-grand-cercle-au-palais-de-la-bourse-a-bordeaux
 /
SUMMARY:Temps des livrables : dégustation organisée par le Grand Cercle a
 u Palais de la Bourse à Bordeaux
DESCRIPTION:Dégustation\, pour des professionnels de La Place de Bordeaux\
 , les courtiers\, les sommeliers et les restaurateurs.Château Grand Corbi
 n-Despagne 2015 et 2014 : Saint-Emilion Grand Cru ClasséChâteau Ampélia
  2015 et 2014 : Castillon-Côtes de Bordeaux
ATTACH;FMTTYPE=image/jpeg:https://www.grand-corbin-despagne.com/wp-content
 /uploads/2015/02/Logo-Grand-Cercle-1.jpg
CATEGORIES:Événement
END:VEVENT
END:VCALENDAR