BEGIN:VCALENDAR
VERSION:2.0
PRODID:-//wp-events-plugin.com//7.2.3.1//EN
BEGIN:VEVENT
UID:45@grand-corbin-despagne.com
DTSTART:20140623T103000Z
DTEND:20140623T143000Z
DTSTAMP:20140326T145152Z
URL:https://www.grand-corbin-despagne.com/evenements/stage-grands-crus-a-l
 a-rencontre-des-vins-de-legende/
SUMMARY:Stage Grands Crus - A la rencontre des vins de Légende
DESCRIPTION:\nVisite et déjeuner avec les vins de Château Grand Corbin-De
 spagne.\nRéservation auprès de l'école du Vin de Bordeaux sur le site I
 nternet en cliquant sur le lien http://www.bordeaux.com/fr/ecoleduvin/les-
 cours/stage-grands-crus/details \nou par téléphone au +33 (0)5 56 00 22
  66\n
ATTACH;FMTTYPE=image/jpeg:https://www.grand-corbin-despagne.com/wp-content
 /uploads/2014/03/logo-ecole-du-vin.jpg
CATEGORIES:Événement
END:VEVENT
END:VCALENDAR