BEGIN:VCALENDAR
VERSION:2.0
PRODID:-//wp-events-plugin.com//7.2.3.1//EN
BEGIN:VEVENT
UID:18@grand-corbin-despagne.com
DTSTART:20131015T170000Z
DTEND:20131015T190000Z
DTSTAMP:20131212T155245Z
URL:https://www.grand-corbin-despagne.com/evenements/soiree-wine-business-
 au-chapon-fin/
SUMMARY:Soirée Wine &amp\; Business au Chapon Fin
DESCRIPTION:\nLa soirée mensuelle Wine &amp\; Business Club accueillera Pi
 erre Larsy\, Président du directoire de Lowendalmasaï en tant qu'invité
  d'honneur et François Despagne\, notre invité vin\, qui présentera les
  grands crus du Château Grand Corbin-Despagne.\nChâteau Grand Corbin-Des
 pagne 2000\n
CATEGORIES:Dégustation
END:VEVENT
END:VCALENDAR