BEGIN:VCALENDAR
VERSION:2.0
PRODID:-//wp-events-plugin.com//7.2.3.1//EN
BEGIN:VEVENT
UID:188@grand-corbin-despagne.com
DTSTART:20191017T170000Z
DTEND:20191017T220000Z
DTSTAMP:20190926T075643Z
URL:https://www.grand-corbin-despagne.com/evenements/soiree-degustation-a-
 la-hall-des-chartrons-organisee-par-science-po-bordeaux/
SUMMARY:Soirée dégustation à la Hall des Chartrons organisée par Scienc
 e Po Bordeaux
DESCRIPTION:
ATTACH;FMTTYPE=image/jpeg:https://www.grand-corbin-despagne.com/wp-content
 /uploads/2019/09/Logo-Science-Po-Bordeaux.jpg
CATEGORIES:Événement
END:VEVENT
END:VCALENDAR