BEGIN:VCALENDAR
VERSION:2.0
PRODID:-//wp-events-plugin.com//7.2.3.1//EN
BEGIN:VEVENT
UID:86@grand-corbin-despagne.com
DTSTART:20150331T090000Z
DTEND:20150402T170000Z
DTSTAMP:20150217T101818Z
URL:https://www.grand-corbin-despagne.com/evenements/semaine-des-primeurs-
 degustation-du-millesime-2014-au-chateau-villemaurine-a-saint-emilion-orga
 nisee-par-lassociation-des-crus-classes-de-saint-emilion/
SUMMARY:Semaine des primeurs : dégustation du millésime 2014 au Château 
 Villemaurine à Saint-Emilion organisée par l'Association des Crus Class
 és de Saint-Emilion
DESCRIPTION:
ATTACH;FMTTYPE=image/jpeg:https://www.grand-corbin-despagne.com/wp-content
 /uploads/2013/10/AGCC3.jpg
CATEGORIES:Dégustation
END:VEVENT
END:VCALENDAR