BEGIN:VCALENDAR
VERSION:2.0
PRODID:-//wp-events-plugin.com//7.2.3.1//EN
BEGIN:VEVENT
UID:182@grand-corbin-despagne.com
DTSTART;VALUE=DATE:20190401
DTEND;VALUE=DATE:20190404
DTSTAMP:20190315T131436Z
URL:https://www.grand-corbin-despagne.com/evenements/semaine-des-primeurs-
 degustation-de-chateau-grand-corbin-despagne-et-chateau-ampelia-2018-au-ch
 ateau-taillerfer-a-pomerol-par-le-grand-cercle/
SUMMARY:Semaine des Primeurs : Dégustation de Château Grand Corbin-Despag
 ne et Château Ampélia 2018 au Château Taillerfer à Pomerol par le Gran
 d Cercle
DESCRIPTION:
ATTACH;FMTTYPE=image/jpeg:https://www.grand-corbin-despagne.com/wp-content
 /uploads/2015/02/Logo-Grand-Cercle-1.jpg
CATEGORIES:Dégustation
END:VEVENT
END:VCALENDAR