BEGIN:VCALENDAR
VERSION:2.0
PRODID:-//wp-events-plugin.com//7.2.3.1//EN
BEGIN:VEVENT
UID:24@grand-corbin-despagne.com
DTSTART;VALUE=DATE:20140516
DTEND;VALUE=DATE:20140518
DTSTAMP:20140124T113831Z
URL:https://www.grand-corbin-despagne.com/evenements/salon-de-la-revue-du-
 vin-de-france-a-paris/
SUMMARY:Salon de la Revue du Vin de France à Paris
DESCRIPTION:
ATTACH;FMTTYPE=image/jpeg:https://www.grand-corbin-despagne.com/wp-content
 /uploads/2013/09/Logo-RVF-1.jpg
CATEGORIES:Salon
END:VEVENT
END:VCALENDAR