BEGIN:VCALENDAR
VERSION:2.0
PRODID:-//wp-events-plugin.com//7.2.3.1//EN
BEGIN:VEVENT
UID:6@grand-corbin-despagne.com
DTSTART;VALUE=DATE:20131026
DTEND;VALUE=DATE:20131028
DTSTAMP:20131025T103815Z
URL:https://www.grand-corbin-despagne.com/evenements/salon-de-la-revue-des
 -vins-de-france-a-bruxelles/
SUMMARY:Salon de la Revue des Vins de France à Bruxelles
DESCRIPTION:\nDégustation :\nChâteau Grand Corbin-Despagne 2011\nChâteau
  Grand Corbin-Despagne 2010\nChâteau Grand Corbin-Despagne 2005\nPetit Co
 rbin-Despagne 2009\nChâteau Ampélia 2009\n
ATTACH;FMTTYPE=image/jpeg:https://www.grand-corbin-despagne.com/wp-content
 /uploads/2013/09/Logo-RVF-1.jpg
CATEGORIES:Salon
END:VEVENT
END:VCALENDAR