BEGIN:VCALENDAR
VERSION:2.0
PRODID:-//wp-events-plugin.com//7.2.3.1//EN
BEGIN:VEVENT
UID:192@grand-corbin-despagne.com
DTSTART;VALUE=DATE:20191214
DTEND;VALUE=DATE:20191216
DTSTAMP:20190927T124846Z
URL:https://www.grand-corbin-despagne.com/evenements/salon-bordeaux-tastin
 g-organise-par-terre-de-vins-au-palais-de-la-bourse-a-bordeaux/
SUMMARY:Salon Bordeaux Tasting organisé par Terre de Vins :  au Palais de 
 la Bourse à Bordeaux
DESCRIPTION:
ATTACH;FMTTYPE=image/jpeg:https://www.grand-corbin-despagne.com/wp-content
 /uploads/2019/09/logo-Bordeaux-Tasting-2019-1.jpg
CATEGORIES:Salon
END:VEVENT
END:VCALENDAR