BEGIN:VCALENDAR
VERSION:2.0
PRODID:-//wp-events-plugin.com//7.2.3.1//EN
BEGIN:VEVENT
UID:44@grand-corbin-despagne.com
DTSTART:20140313T173000Z
DTEND:20140313T220000Z
DTSTAMP:20140326T142257Z
URL:https://www.grand-corbin-despagne.com/evenements/reception-des-eleves-
 des-metiers-du-vin-et-management-de-lecole-cordon-bleu/
SUMMARY:Réception des élèves des Métiers du Vin et Management de l'éco
 le Cordon Bleu
DESCRIPTION:\nVisite\nDîner avec les vins de Château Grand Corbin-Despagn
 e\nPetit Corbin-Despagne 2008 : Tartare de Saint-Jacques sur Crème Verte 
 à la Fleur de Merlot\nChâteau Grand Corbin-Despagne 2011 : Roti de Boeuf
  sur la Braise à la Fleur de Sel\, Légumes Assortis\nChâteau Grand Corb
 in-Despagne 2002 : Claie de Fromages Affinés\nCafé gourmand\n&nbsp\;\n
ATTACH;FMTTYPE=image/jpeg:https://www.grand-corbin-despagne.com/wp-content
 /uploads/2014/03/logo-GCD1.jpg
CATEGORIES:Événement
END:VEVENT
END:VCALENDAR