BEGIN:VCALENDAR
VERSION:2.0
PRODID:-//wp-events-plugin.com//7.2.3.1//EN
BEGIN:VEVENT
UID:99@grand-corbin-despagne.com
DTSTART:20160317T073000Z
DTEND:20160317T093000Z
DTSTAMP:20160310T104918Z
URL:https://www.grand-corbin-despagne.com/evenements/reception-de-26-profe
 sseurs-decoles-hotelieres-mentions-complementaires-sommellerie-france-et-b
 elgique-invites-par-lecole-du-vin-du-c-i-v-b-conseil-interprofessionnel-de
 s-vins-de/
SUMMARY:Réception  de 26 professeurs d’Ecoles Hôtelières (Mentions com
 plémentaires sommellerie) France et Belgique invités par l’École du V
 in du C.I.V.B (Conseil interprofessionnel des vins de Bordeaux).
DESCRIPTION:
ATTACH;FMTTYPE=image/jpeg:https://www.grand-corbin-despagne.com/wp-content
 /uploads/2014/03/logo-ecole-du-vin.jpg
CATEGORIES:Dégustation
END:VEVENT
END:VCALENDAR