BEGIN:VCALENDAR
VERSION:2.0
PRODID:-//wp-events-plugin.com//7.2.3.1//EN
BEGIN:VEVENT
UID:205@grand-corbin-despagne.com
DTSTART:20220414T150000Z
DTEND:20220414T200000Z
DTSTAMP:20220405T123641Z
URL:https://www.grand-corbin-despagne.com/evenements/presentation-en-avant
 -premiere-de-notre-millesime-primeur-a-londres-organisee-par-le-grand-cerc
 le/
SUMMARY:Présentation en Avant-Première de notre millésime Primeur à Lon
 dres organisée par le Grand Cercle
DESCRIPTION:Restaurant The DillyChâteau Ampélia 2021 - Castillon-Côtes d
 e BordeauxChâteau Ampélia 2018 - Castillon-Côtes de BordeauxChâteau Gr
 and Corbin-Despagne 2021 - Saint-Emilion Grand Cru - Grand Cru ClasséChâ
 teau Grand Corbin-Despagne 2016 - Saint-Emilion Grand Cru - Grand Cru Clas
 sé
ATTACH;FMTTYPE=image/jpeg:https://www.grand-corbin-despagne.com/wp-content
 /uploads/2022/04/logo-Grand-Cercle-Site-Internet.jpg
CATEGORIES:Dégustation
END:VEVENT
END:VCALENDAR