BEGIN:VCALENDAR
VERSION:2.0
PRODID:-//wp-events-plugin.com//7.2.3.1//EN
BEGIN:VEVENT
UID:78@grand-corbin-despagne.com
DTSTART:20150310T150000Z
DTEND:20150310T200000Z
DTSTAMP:20150217T103550Z
URL:https://www.grand-corbin-despagne.com/evenements/presentation-du-mille
 sime-2014-en-avant-premiere-aux-negociants-et-courtiers-de-bordeaux-et-de-
 la-girende-a-lespace-bourse-a-bordeaux/
SUMMARY:Présentation du Millésime 2014 en avant-première aux négociants
  et courtiers de Bordeaux et de la Girende à L'espace Bourse à Bordeaux
DESCRIPTION:\nEspace Bourse\n19\, place de la Bourse\n33000 Bordeaux\n
ATTACH;FMTTYPE=image/jpeg:https://www.grand-corbin-despagne.com/wp-content
 /uploads/2015/02/Logo-Grand-Cercle-1.jpg
CATEGORIES:Dégustation
END:VEVENT
END:VCALENDAR