BEGIN:VCALENDAR
VERSION:2.0
PRODID:-//wp-events-plugin.com//7.2.3.1//EN
BEGIN:VEVENT
UID:62@grand-corbin-despagne.com
DTSTART:20141127T170000Z
DTEND:20141127T200000Z
DTSTAMP:20141015T151720Z
URL:https://www.grand-corbin-despagne.com/evenements/presentation-du-chate
 au-grand-corbin-despagne-pour-le-club-de-degustation-grains-noble-a-paris/
SUMMARY:Présentation du Château Grand Corbin-Despagne pour Grains Nobles 
 à Paris
DESCRIPTION:
CATEGORIES:Dégustation
END:VEVENT
END:VCALENDAR