BEGIN:VCALENDAR
VERSION:2.0
PRODID:-//wp-events-plugin.com//7.2.3.1//EN
BEGIN:VEVENT
UID:10@grand-corbin-despagne.com
DTSTART:20131120T180000Z
DTEND:20131120T180000Z
DTSTAMP:20131217T165721Z
URL:https://www.grand-corbin-despagne.com/evenements/presentation-du-chate
 au-grand-corbin-despagne-aupres-des-etudiants-paris-dauphine/
SUMMARY:Présentation de Château Grand Corbin-Despagne auprès des étudia
 nts Paris Dauphine
DESCRIPTION:
CATEGORIES:Dégustation
END:VEVENT
END:VCALENDAR