BEGIN:VCALENDAR
VERSION:2.0
PRODID:-//wp-events-plugin.com//7.2.3.1//EN
BEGIN:VEVENT
UID:32@grand-corbin-despagne.com
DTSTART:20140306T080000Z
DTEND:20140306T103000Z
DTSTAMP:20140307T135550Z
URL:https://www.grand-corbin-despagne.com/evenements/parrainage-de-la-21ie
 me-promotion-eleves-sommeliers-ecole-cafa-formations-2/
SUMMARY:Parrainage de la 21ième Promotion : Elèves sommeliers Ecole CAFA 
 FORMATIONS
DESCRIPTION:\nFormation : pratique de l'assemblage\n
ATTACH;FMTTYPE=image/jpeg:https://www.grand-corbin-despagne.com/wp-content
 /uploads/2014/01/Logo-CAFA.jpg
CATEGORIES:Dégustation
END:VEVENT
END:VCALENDAR