BEGIN:VCALENDAR
VERSION:2.0
PRODID:-//wp-events-plugin.com//7.2.3.1//EN
BEGIN:VEVENT
UID:193@grand-corbin-despagne.com
DTSTART:20200203T190000Z
DTEND:20200203T210000Z
DTSTAMP:20190926T101322Z
URL:https://www.grand-corbin-despagne.com/evenements/master-class-de-chate
 au-grand-corbin-despagne-pour-les-eleves-de-telecom-paris/
SUMMARY:Master Class de Château Grand Corbin-Despagne pour les élèves de
  Telecom Paris
DESCRIPTION:
ATTACH;FMTTYPE=image/jpeg:https://www.grand-corbin-despagne.com/wp-content
 /uploads/2018/10/Logo-Ecole-Telecom-ParisTech.jpg
CATEGORIES:Événement
END:VEVENT
END:VCALENDAR