BEGIN:VCALENDAR
VERSION:2.0
PRODID:-//wp-events-plugin.com//7.2.3.1//EN
BEGIN:VEVENT
UID:200@grand-corbin-despagne.com
DTSTART:20220411T140000Z
DTEND:20220411T151500Z
DTSTAMP:20220405T103119Z
URL:https://www.grand-corbin-despagne.com/evenements/master-class-a-geneve
 -organise-par-le-grand-cercle/
SUMMARY:Master Class à Genève organisé par le Grand Cercle
DESCRIPTION:Hôtel Président Wilson\, 47 Quai Wilson\, 1211 Genève"Décou
 vrez les pépites du Grand Cercle des Vins de Bordeaux"Château Grand Corb
 in-Despagne 2018 : Saint-Emilion Grand Cru - Grand Cru Classé
ATTACH;FMTTYPE=image/jpeg:https://www.grand-corbin-despagne.com/wp-content
 /uploads/2022/04/logo-Grand-Cercle-Site-Internet.jpg
CATEGORIES:Dégustation
END:VEVENT
END:VCALENDAR