BEGIN:VCALENDAR
VERSION:2.0
PRODID:-//wp-events-plugin.com//7.2.3.1//EN
BEGIN:VEVENT
UID:168@grand-corbin-despagne.com
DTSTART:20190309T230000Z
DTEND:20190309T230000Z
DTSTAMP:20190131T163125Z
URL:https://www.grand-corbin-despagne.com/evenements/le-vignoble-de-saint-
 emilion-va-accueillir-sa-quatrieme-course-fetes-les-vins-kms-de-saint-emil
 ion/
SUMMARY:Le vignoble de Saint-Émilion va accueillir sa quatrième course «
  Fêtes les Vins kms de Saint-Émilion ».
DESCRIPTION: Les amoureux des terroirs de Saint-Émilion pourront admirer\
 , en petites foulées\, les fantastiques châteaux qui jalonnent le parcou
 rs. Et ce\, pour la bonne cause : les bénéfices de cette course de 11 o
 u 21 kms\, organisée par le Rotary Club de Libourne-Saint-Émilion seron
 t reversés à la recherche sur les maladies du cerveau.Vous pouvez vous i
 nscrire sur ce site : https://course-rotary-st-emilion.fr/
CATEGORIES:Événement
END:VEVENT
END:VCALENDAR