BEGIN:VCALENDAR
VERSION:2.0
PRODID:-//wp-events-plugin.com//7.2.3.1//EN
BEGIN:VEVENT
UID:146@grand-corbin-despagne.com
DTSTART:20180517T140000Z
DTEND:20180517T190000Z
DTSTAMP:20180430T112229Z
URL:https://www.grand-corbin-despagne.com/evenements/grande-degustation-or
 ganisee-par-notre-distributeur-la-maison-daniel-gazzar-vins-au-lausanne-pa
 lace-spa-a-lausanne-en-suisse/
SUMMARY:Grande Dégustation organisée par notre distributeur la maison Dan
 iel Gazzar Vins au Lausanne Palace &amp\; Spa à Lausanne en Suisse
DESCRIPTION:Dégustation :Château Grand Corbin-Despagne 2015Château Grand
  Corbin-Despagne 2014
CATEGORIES:Dégustation
END:VEVENT
END:VCALENDAR