BEGIN:VCALENDAR
VERSION:2.0
PRODID:-//wp-events-plugin.com//7.2.3.1//EN
BEGIN:VEVENT
UID:91@grand-corbin-despagne.com
DTSTART:20151204T090000Z
DTEND:20151205T180000Z
DTSTAMP:20151125T143023Z
URL:https://www.grand-corbin-despagne.com/evenements/grand-tasting-salon-o
 rganise-par-bettane-desseauve-au-carroussel-du-louvre-a-paris/
SUMMARY:Grand Tasting : Salon organisé par Bettane &amp\; Desseauve au Car
 roussel du Louvre à Paris
DESCRIPTION:Dégustation verticale:Château Grand Corbin-Despagne 2012Chât
 eau Grand Corbin-Despagne 2011Château Grand Corbin-Despagne 2010Château 
 Grand Corbin-Despagne 2009Château Ampélia 2012
ATTACH;FMTTYPE=image/jpeg:https://www.grand-corbin-despagne.com/wp-content
 /uploads/2015/11/Logo-Grand-Tasting-Paris-2015.jpg
CATEGORIES:Salon
END:VEVENT
END:VCALENDAR