BEGIN:VCALENDAR
VERSION:2.0
PRODID:-//wp-events-plugin.com//7.2.3.1//EN
BEGIN:VEVENT
UID:149@grand-corbin-despagne.com
DTSTART:20180907T230000Z
DTEND:20180907T230000Z
DTSTAMP:20181016T145949Z
URL:https://www.grand-corbin-despagne.com/evenements/festival-musica-vini-
 au-chateau-de-pescheseul-a-avoise/
SUMMARY:Festival Musica Vini au Château de Pescheseul à Avoise
DESCRIPTION:Trois Vins\, Trois Concerts\, Trois Concerts-Dégustations.Duo 
 Le Bigraphe (Soprano Anne- Emmanuelle Davy) et Saint-Emilion Grand Cru Pet
 it Corbin-Despagne 2015 :&nbsp\;
CATEGORIES:Événement
END:VEVENT
END:VCALENDAR