BEGIN:VCALENDAR
VERSION:2.0
PRODID:-//wp-events-plugin.com//7.2.3.1//EN
BEGIN:VEVENT
UID:167@grand-corbin-despagne.com
DTSTART:20190211T110000Z
DTEND:20190211T140000Z
DTSTAMP:20190131T162105Z
URL:https://www.grand-corbin-despagne.com/evenements/dejeuner-de-cloture-p
 our-les-30-ans-de-lassociation-lunion-de-la-sommellerie-francaise/
SUMMARY:Déjeuner de Clôture pour les 30 ans de l’Association l’Union 
 de la Sommellerie Française
DESCRIPTION:Le déjeuner se déroule à l’hôtel Mercure de Mériadeck : 
 une centaine de sommeliers sera présente dont parmi eux plusieurs champio
 ns du Monde\, d’Europe et de France ainsi qu’un grand nombre de meille
 urs ouvriers de France.DégustationChâteau Grand Corbin-Despagne 2015
ATTACH;FMTTYPE=image/jpeg:https://www.grand-corbin-despagne.com/wp-content
 /uploads/2014/03/logo-Conseil-des-vins-de-Saint-Emilion.jpg
CATEGORIES:Événement
END:VEVENT
END:VCALENDAR