BEGIN:VCALENDAR
VERSION:2.0
PRODID:-//wp-events-plugin.com//7.2.3.1//EN
BEGIN:VEVENT
UID:105@grand-corbin-despagne.com
DTSTART;VALUE=DATE:20160518
DTEND;VALUE=DATE:20160519
DTSTAMP:20160310T110629Z
URL:https://www.grand-corbin-despagne.com/evenements/degustation-professio
 nnelle-a-tokyo-organisee-par-lassociation-des-crus-classees-de-saint-emili
 on/
SUMMARY:Dégustation professionnelle à Tokyo organisée par l’Associatio
 n des Crus Classées de Saint-Emilion.
DESCRIPTION:Château Grand Corbin-Despagne 2011 et 2013
ATTACH;FMTTYPE=image/jpeg:https://www.grand-corbin-despagne.com/wp-content
 /uploads/2015/11/Logo-AGCC-new.jpg
CATEGORIES:Dégustation
END:VEVENT
END:VCALENDAR