BEGIN:VCALENDAR
VERSION:2.0
PRODID:-//wp-events-plugin.com//7.2.3.1//EN
BEGIN:VEVENT
UID:162@grand-corbin-despagne.com
DTSTART;VALUE=DATE:20190509
DTEND;VALUE=DATE:20190510
DTSTAMP:20190315T131729Z
URL:https://www.grand-corbin-despagne.com/evenements/degustation-pour-un-d
 e-nos-distributeurs-en-suisse-a-zurich/
SUMMARY:Dégustation pour un de nos distributeurs en Suisse à Zürich.
DESCRIPTION:Papiersaal\, Kalanderplatz 6\, 8045 Zürich
CATEGORIES:Dégustation
END:VEVENT
END:VCALENDAR