BEGIN:VCALENDAR
VERSION:2.0
PRODID:-//wp-events-plugin.com//7.2.3.1//EN
BEGIN:VEVENT
UID:153@grand-corbin-despagne.com
DTSTART;VALUE=DATE:20181014
DTEND;VALUE=DATE:20181015
DTSTAMP:20181016T150929Z
URL:https://www.grand-corbin-despagne.com/evenements/degustation-pour-un-d
 e-nos-distributeurs-au-luxembourg/
SUMMARY:Dégustation pour un de nos distributeurs au Luxembourg
DESCRIPTION:Château Grand Corbin-Despagne 2016\, 2015 et 2014: Saint-Emili
 on Grand Cru ClasséPetit Corbin-Despagne 2015 et 2014 : Saint-Emilion Gr
 and CruChâteau Le Chemin 2016\, 2015 et 2014 : Pomerol
CATEGORIES:Événement
END:VEVENT
END:VCALENDAR