BEGIN:VCALENDAR
VERSION:2.0
PRODID:-//wp-events-plugin.com//7.2.3.1//EN
BEGIN:VEVENT
UID:141@grand-corbin-despagne.com
DTSTART:20170510T230000Z
DTEND:20170510T230000Z
DTSTAMP:20170505T153638Z
URL:https://www.grand-corbin-despagne.com/evenements/degustation-pour-un-d
 e-nos-distributeurs-a-lausanne-en-suisse/
SUMMARY:Dégustation pour un de nos distributeurs à Lausanne en Suisse
DESCRIPTION:Lausanne – Palace &amp\; Spa\, rue du Grand-Chêne 7-9\, 1003
  Lausanne :Château Grand Corbin-Despagne 2012 et 2016.
CATEGORIES:Événement
END:VEVENT
END:VCALENDAR