BEGIN:VCALENDAR
VERSION:2.0
PRODID:-//wp-events-plugin.com//7.2.3.1//EN
BEGIN:VEVENT
UID:207@grand-corbin-despagne.com
DTSTART:20220505T140000Z
DTEND:20220505T190000Z
DTSTAMP:20220405T125534Z
URL:https://www.grand-corbin-despagne.com/evenements/degustation-pour-un-d
 e-nos-distributeurs-a-lausanne-en-suisse-2/
SUMMARY:Dégustation pour un de nos distributeurs à Lausanne en Suisse
DESCRIPTION:Lausanne-Palace &amp\; Spa\, Grand-Chêne 7-9\, 1002 Lausanne
CATEGORIES:Dégustation
END:VEVENT
END:VCALENDAR