BEGIN:VCALENDAR
VERSION:2.0
PRODID:-//wp-events-plugin.com//7.2.3.1//EN
BEGIN:VEVENT
UID:177@grand-corbin-despagne.com
DTSTART:20190409T171500Z
DTEND:20190409T184500Z
DTSTAMP:20190315T105958Z
URL:https://www.grand-corbin-despagne.com/evenements/degustation-organisee
 -par-le-grand-cercle-pour-les-eleves-kedge-business-school/
SUMMARY:Dégustation organisée par le Grand Cercle pour les élèves Kedge
  Business School à Bordeaux
DESCRIPTION:Château Grand Corbin-Despagne 2015 : Saint-Emilion Grand Cru 
 ClasséChâteau Ampélia 2015 : Castillon Côtes de Bordeaux
ATTACH;FMTTYPE=image/jpeg:https://www.grand-corbin-despagne.com/wp-content
 /uploads/2014/03/Logo-Grand-Cercle-1.jpg
CATEGORIES:Événement
END:VEVENT
END:VCALENDAR