BEGIN:VCALENDAR
VERSION:2.0
PRODID:-//wp-events-plugin.com//7.2.3.1//EN
BEGIN:VEVENT
UID:159@grand-corbin-despagne.com
DTSTART:20181210T160000Z
DTEND:20181210T220000Z
DTSTAMP:20181016T155732Z
URL:https://www.grand-corbin-despagne.com/evenements/degustation-organisee
 -par-lassociation-de-crus-classes-de-saint-emilion-avec-vinopores-a-bruxel
 les/
SUMMARY:Dégustation organisée par l’Association de Crus Classés de Sai
 nt-Emilion avec Vinopores à Bruxelles
DESCRIPTION:Dégustation pour les professionnels\, organisée avec Vinopore
 s\, au Quay 01\, Avenue du Port 1 à BruxellesCette dégustation sera suiv
 ie d’un dîner au même endroitChâteau Grand Corbin-Despagne 2015 et 20
 16 : Saint-Emilion Grand Cru Classé
ATTACH;FMTTYPE=image/jpeg:https://www.grand-corbin-despagne.com/wp-content
 /uploads/2015/11/Logo-AGCC-new.jpg
CATEGORIES:Dégustation
END:VEVENT
END:VCALENDAR