BEGIN:VCALENDAR
VERSION:2.0
PRODID:-//wp-events-plugin.com//7.2.3.1//EN
BEGIN:VEVENT
UID:156@grand-corbin-despagne.com
DTSTART:20181130T100000Z
DTEND:20181130T120000Z
DTSTAMP:20181016T152143Z
URL:https://www.grand-corbin-despagne.com/evenements/degustation-organisee
 -par-lassociation-de-crus-classes-de-saint-emilion-a-malte/
SUMMARY:Dégustation organisée par l’Association de Crus Classés de Sai
 nt-Emilion à Malte
DESCRIPTION:Dégustation pour les professionnels de 11h à 13h et de 18h à
  20h pour les amateurs :Château Grand Corbin-Despagne 2014 et 2015 : Sa
 int-Emilion Grand Cru Classé&nbsp\;
ATTACH;FMTTYPE=image/jpeg:https://www.grand-corbin-despagne.com/wp-content
 /uploads/2015/11/Logo-AGCC-new.jpg
CATEGORIES:Dégustation
END:VEVENT
END:VCALENDAR