BEGIN:VCALENDAR
VERSION:2.0
PRODID:-//wp-events-plugin.com//7.2.3.1//EN
BEGIN:VEVENT
UID:13@grand-corbin-despagne.com
DTSTART:20131209T150000Z
DTEND:20131209T200000Z
DTSTAMP:20131217T165615Z
URL:https://www.grand-corbin-despagne.com/evenements/degustation-du-chatea
 u-grand-corbin-despagne-au-grand-theatre-a-bordeaux/
SUMMARY:Dégustation de Château Grand Corbin-Despagne au Grand Théâtre 
 à Bordeaux
DESCRIPTION:\nDégustation professionnelle:\nChâteau Grand Corbin-Despagne
  2009\nChâteau Grand Corbin-Despagne 2010\n
ATTACH;FMTTYPE=image/jpeg:https://www.grand-corbin-despagne.com/wp-content
 /uploads/2013/10/AGCC2.jpg
CATEGORIES:Dégustation
END:VEVENT
END:VCALENDAR