BEGIN:VCALENDAR
VERSION:2.0
PRODID:-//wp-events-plugin.com//7.2.3.1//EN
BEGIN:VEVENT
UID:5@grand-corbin-despagne.com
DTSTART:20131013T080000Z
DTEND:20131013T170000Z
DTSTAMP:20131217T165644Z
URL:https://www.grand-corbin-despagne.com/evenements/degustation-du-chatea
 u-grand-corbin-despagne-2011-au-luxembourg/
SUMMARY:Dégustation de Château Grand Corbin-Despagne 2011 au Luxembourg
DESCRIPTION:
CATEGORIES:Dégustation
END:VEVENT
END:VCALENDAR