BEGIN:VCALENDAR
VERSION:2.0
PRODID:-//wp-events-plugin.com//7.2.3.1//EN
BEGIN:VEVENT
UID:104@grand-corbin-despagne.com
DTSTART:20160426T150000Z
DTEND:20160426T200000Z
DTSTAMP:20160310T110331Z
URL:https://www.grand-corbin-despagne.com/evenements/degustation-de-chatea
 u-grand-corbin-despagne-pour-un-de-nos-distributeurs-a-zurich-en-suisse/
SUMMARY:Dégustation de Château Grand Corbin-Despagne  pour un de nos dist
 ributeurs à Zurich en Suisse
DESCRIPTION:Château Grand Corbin-Despagne 2012Château Grand Corbin-Despag
 ne 2015
CATEGORIES:Dégustation
END:VEVENT
END:VCALENDAR