BEGIN:VCALENDAR
VERSION:2.0
PRODID:-//wp-events-plugin.com//7.2.3.1//EN
BEGIN:VEVENT
UID:48@grand-corbin-despagne.com
DTSTART;VALUE=DATE:20141011
DTEND;VALUE=DATE:20141013
DTSTAMP:20141007T104607Z
URL:https://www.grand-corbin-despagne.com/evenements/degustation-de-chatea
 u-grand-corbin-despagne-chez-un-de-nos-distributeurs-en-belgique/
SUMMARY:Dégustation de Château Grand Corbin-Despagne chez un de nos distr
 ibuteurs à Drongen en Belgique
DESCRIPTION:
CATEGORIES:Dégustation
END:VEVENT
END:VCALENDAR