BEGIN:VCALENDAR
VERSION:2.0
PRODID:-//wp-events-plugin.com//7.2.3.1//EN
BEGIN:VEVENT
UID:92@grand-corbin-despagne.com
DTSTART:20151207T160000Z
DTEND:20151207T200000Z
DTSTAMP:20151125T144711Z
URL:https://www.grand-corbin-despagne.com/evenements/degustation-avec-lass
 ociation-des-grands-crus-classes-de-saint-emilion-au-grand-theatre-de-bord
 eaux/
SUMMARY:Dégustation avec l'association des Grands Crus Classés de Saint-E
 milion au Grand Théâtre de Bordeaux
DESCRIPTION:Dégustation:Château Grand Corbin-Despagne 2012
ATTACH;FMTTYPE=image/jpeg:https://www.grand-corbin-despagne.com/wp-content
 /uploads/2015/11/Logo-AGCC-new.jpg
CATEGORIES:Dégustation
END:VEVENT
END:VCALENDAR