BEGIN:VCALENDAR
VERSION:2.0
PRODID:-//wp-events-plugin.com//7.2.3.1//EN
BEGIN:VEVENT
UID:189@grand-corbin-despagne.com
DTSTART:20191104T130000Z
DTEND:20191104T160000Z
DTSTAMP:20190926T081455Z
URL:https://www.grand-corbin-despagne.com/evenements/degustation-au-metrop
 olitan-pavillon-a-new-york-destinee-aux-professionnels-du-vin-organisee-pa
 r-lassociation-de-crus-classes-de-saint-emilion/
SUMMARY:Dégustation au Metropolitan Pavillon à New York\, destinée aux p
 rofessionnels du vin\, organisée par l'Association de Crus Classés de Sa
 int-Emilion
DESCRIPTION:Château Grand Corbin-Despagne 2015 : Saint-Emilion Grand Cru C
 lasséChâteau Grand Corbin-Despagne 2016 : Saint-Emilion Grand Cru Class
 é
ATTACH;FMTTYPE=image/jpeg:https://www.grand-corbin-despagne.com/wp-content
 /uploads/2019/09/Logo-AGCCNew-1-1.jpg
CATEGORIES:Dégustation
END:VEVENT
END:VCALENDAR