BEGIN:VCALENDAR
VERSION:2.0
PRODID:-//wp-events-plugin.com//7.2.3.1//EN
BEGIN:VEVENT
UID:59@grand-corbin-despagne.com
DTSTART;VALUE=DATE:20141103
DTEND;VALUE=DATE:20141104
DTSTAMP:20141015T150151Z
URL:https://www.grand-corbin-despagne.com/evenements/degustation-a-londres
 -pour-la-wine-society/
SUMMARY:Dégustation à Londres pour la Wine Society
DESCRIPTION:\nDégustation:\nChâteau Grand Corbin-Despagne 2010\nChâteau 
 Grand Corbin-Despagne 2011\nChâteau Ampélia 2009\nChâteau Ampélia 2010
 \n
CATEGORIES:Dégustation
END:VEVENT
END:VCALENDAR