BEGIN:VCALENDAR
VERSION:2.0
PRODID:-//wp-events-plugin.com//7.2.3.1//EN
BEGIN:VEVENT
UID:204@grand-corbin-despagne.com
DTSTART:20220413T160000Z
DTEND:20220413T183000Z
DTSTAMP:20220405T105054Z
URL:https://www.grand-corbin-despagne.com/evenements/degustation-a-lille-o
 rganisee-par-le-grand-cercle-pour-les-particuliers/
SUMMARY:Dégustation à Lille organisée par le Grand Cercle pour les parti
 culiers
DESCRIPTION:Club Marot\, 16\, Rue de Pas\, 59000 LilleChâteau Ampélia 201
 8 : Catillon-Côtes de BordeauxChâteau Grand Corbin-Despagne 2016 : Saint
 -Emilion Grand Cru - Grand Cru Classé
ATTACH;FMTTYPE=image/jpeg:https://www.grand-corbin-despagne.com/wp-content
 /uploads/2022/04/logo-Grand-Cercle-Site-Internet.jpg
CATEGORIES:Dégustation
END:VEVENT
END:VCALENDAR