BEGIN:VCALENDAR
VERSION:2.0
PRODID:-//wp-events-plugin.com//7.2.3.1//EN
BEGIN:VEVENT
UID:166@grand-corbin-despagne.com
DTSTART:20190205T130000Z
DTEND:20190205T190000Z
DTSTAMP:20190131T161758Z
URL:https://www.grand-corbin-despagne.com/evenements/degustation-a-geneve-
 organisee-par-lassociation-de-crus-classes-de-saint-emilion/
SUMMARY:Dégustation à Genève organisée par l’Association de Crus Clas
 sés de Saint-Emilion
DESCRIPTION:La dégustation à Genève commencera à 14h et se tiendra à l
 ’Hôtel Beau RivageChâteau Grand Corbin-Despagne 2015 : Saint-Emilion G
 rand Cru ClasséChâteau Grand Corbin-Despagne 2016 : Saint-Emilion Grand 
 Cru Classé&nbsp\;
ATTACH;FMTTYPE=image/jpeg:https://www.grand-corbin-despagne.com/wp-content
 /uploads/2019/01/Logo-AGCCNew-1.jpg
CATEGORIES:Dégustation
END:VEVENT
END:VCALENDAR