BEGIN:VCALENDAR
VERSION:2.0
PRODID:-//wp-events-plugin.com//7.2.3.1//EN
BEGIN:VEVENT
UID:90@grand-corbin-despagne.com
DTSTART:20151125T130000Z
DTEND:20151125T150000Z
DTSTAMP:20151125T150211Z
URL:https://www.grand-corbin-despagne.com/evenements/cours-sur-la-viticult
 ure-biologique-et-sur-notre-demarche-environnementale-pour-les-eleves-de-w
 ine-institut/
SUMMARY:Cours sur la viticulture biologique et sur notre démarche environn
 ementale pour les élèves de Wine &amp\; Spirits Institute
DESCRIPTION:
ATTACH;FMTTYPE=image/jpeg:https://www.grand-corbin-despagne.com/wp-content
 /uploads/2015/11/Logo-Wine-Institute.jpg
CATEGORIES:Événement
END:VEVENT
END:VCALENDAR