BEGIN:VCALENDAR
VERSION:2.0
PRODID:-//wp-events-plugin.com//7.2.3.1//EN
BEGIN:VEVENT
UID:180@grand-corbin-despagne.com
DTSTART:20190412T230000Z
DTEND:20190412T230000Z
DTSTAMP:20190315T110735Z
URL:https://www.grand-corbin-despagne.com/evenements/concert-dans-le-cadre
 -des-grandes-heures-de-saint-emilion/
SUMMARY:Concert dans le cadre des Grandes Heures de Saint-Emilion
DESCRIPTION:Aurélienne  Brauner et Eric Maria Couturier\, 2 violoncellist
 es  "haute couture"\,  concert à 2 violoncelles.
ATTACH;FMTTYPE=image/jpeg:https://www.grand-corbin-despagne.com/wp-content
 /uploads/2014/03/logo-GCD.jpg
CATEGORIES:Événement
END:VEVENT
END:VCALENDAR