BEGIN:VCALENDAR
VERSION:2.0
PRODID:-//wp-events-plugin.com//7.2.3.1//EN
BEGIN:VEVENT
UID:145@grand-corbin-despagne.com
DTSTART;VALUE=DATE:20171209
DTEND;VALUE=DATE:20171211
DTSTAMP:20171115T161431Z
URL:https://www.grand-corbin-despagne.com/evenements/bordeaux-tasting-salo
 n-organise-par-le-magazine-terre-de-vins-au-palais-de-la-bourse-a-bordeaux
 -3/
SUMMARY:Bordeaux Tasting : Salon organisé par le magazine Terre de Vins au
  palais de la Bourse à Bordeaux
DESCRIPTION:Stand B5Dégustation:Château Grand Corbin-Despagne 2015Châtea
 u Grand Corbin-Despagne 2014Château Grand Corbin-Despagne 2010
ATTACH;FMTTYPE=image/jpeg:https://www.grand-corbin-despagne.com/wp-content
 /uploads/2017/11/Logo-Bordeaux-Tasting-2017.jpg
CATEGORIES:Salon
END:VEVENT
END:VCALENDAR