BEGIN:VCALENDAR
VERSION:2.0
PRODID:-//wp-events-plugin.com//7.2.3.1//EN
BEGIN:VEVENT
UID:122@grand-corbin-despagne.com
DTSTART:20161210T090000Z
DTEND:20161211T170000Z
DTSTAMP:20161123T152655Z
URL:https://www.grand-corbin-despagne.com/evenements/bordeaux-tasting-salo
 n-organise-par-le-magazine-terre-de-vins-au-palais-de-la-bourse-a-bordeaux
 -2/
SUMMARY:Bordeaux Tasting : Salon organisé par le magazine Terre de Vins au
  palais de la Bourse à Bordeaux
DESCRIPTION:DégustationChâteau Grand Corbin-Despagne 2014Château Grand C
 orbin-Despagne 2012Château Grand Corbin-Despagne 2010Pour acheter un bill
 et\, cliquer sur le lien : http://www.terredevins.com/evenements/bordeaux-
 tasting-2016/
ATTACH;FMTTYPE=image/jpeg:https://www.grand-corbin-despagne.com/wp-content
 /uploads/2014/03/Lille-Tasting-2013.jpg
CATEGORIES:Salon
END:VEVENT
END:VCALENDAR