BEGIN:VCALENDAR
VERSION:2.0
PRODID:-//wp-events-plugin.com//7.2.3.1//EN
BEGIN:VEVENT
UID:14@grand-corbin-despagne.com
DTSTART;VALUE=DATE:20131214
DTEND;VALUE=DATE:20131216
DTSTAMP:20131025T104613Z
URL:https://www.grand-corbin-despagne.com/evenements/bordeaux-tasting-2013
 -au-palais-de-la-bourse-a-bordeaux/
SUMMARY:Bordeaux Tasting 2013 au Palais de la Bourse à Bordeaux
DESCRIPTION:\nDégustation:\nChâteau Grand Corbin-Despagne 2011\nChâteau 
 Grand Corbin-Despagne 2009\nChâteau Grand Corbin-Despagne 2000\nPetit Cor
 bin-Despagne 2008\nChâteau Ampélia 2009\n
ATTACH;FMTTYPE=image/jpeg:https://www.grand-corbin-despagne.com/wp-content
 /uploads/2013/10/Bordeaux-Tasting-2013.jpg
CATEGORIES:Salon
END:VEVENT
END:VCALENDAR