BEGIN:VCALENDAR
VERSION:2.0
PRODID:-//wp-events-plugin.com//7.2.3.1//EN
BEGIN:VEVENT
UID:186@grand-corbin-despagne.com
DTSTART:20190922T180000Z
DTEND:20190922T220000Z
DTSTAMP:20190926T074056Z
URL:https://www.grand-corbin-despagne.com/evenements/accueil-organise-par-
 lecole-du-vin-du-civb-dun-groupe-de-14-restaurateurs-belges-selectionnes-p
 ar-le-gault-millau/
SUMMARY:Accueil\, organisé par l’École du Vin du CIVB\, d'un groupe de 
 14 restaurateurs Belges sélectionnés par le Gault &amp\; Millau
DESCRIPTION:Visite suivi d’un dîner au Château Grand Corbin-DespagneCh
 âteau Ampélia 2015 : Castillon-Côtes de BordeauxPetit Corbin-Despagne
  2015 : Saint-Emilion Grand CruChâteau Grand Corbin-Despagne 2015 : Saint
 -Emilion Grand Cru ClasséChâteau Grand Corbin-Despagne 2010 : Saint-Emil
 ion Grand Cru ClasséChâteau Grand Corbin-Despagne 1989 : Saint-Emilion G
 rand Cru Classé
ATTACH;FMTTYPE=image/jpeg:https://www.grand-corbin-despagne.com/wp-content
 /uploads/2014/03/logo-ecole-du-vin.jpg
CATEGORIES:Événement
END:VEVENT
END:VCALENDAR